BEGIN:VCALENDAR
VERSION:2.0
PRODID:-//evakrischel//NONSGML v1.0//EN
CALSCALE:GREGORIAN
BEGIN:VEVENT
UID:69e892b613177@evakrischel.de
DTSTAMP:20260422T091950Z
DTSTART:20260301T140000Z
DTEND:20260301T170000Z
SUMMARY:Für Singles: Coaching Walk &amp; Talk ♥️ Thema: Richtige(n) PartnerIn finden
DESCRIPTION:Lust auf echte Begegnungen beim Spaziergang? Am Sonntag, 01.03. um 14 Uhr treffen sich Singles im Schloßpark für 2-3 entspannte Stunden
URL:https://www.eventbrite.de/e/1982770252199
END:VEVENT
END:VCALENDAR
