BEGIN:VCALENDAR
VERSION:2.0
PRODID:-//evakrischel//NONSGML v1.0//EN
CALSCALE:GREGORIAN
BEGIN:VEVENT
UID:69e88eae0c1e7@evakrischel.de
DTSTAMP:20260422T090238Z
DTSTART:20260308T130000Z
DTEND:20260308T190000Z
SUMMARY:Coaching Circle für Singles ♥️ Richtige(n) PartnerIn finden ♥️ Liebe ohne Angst genießen
DESCRIPTION:
URL:https://www.eventbrite.de/e/1982767334472
END:VEVENT
END:VCALENDAR
