BEGIN:VCALENDAR
VERSION:2.0
PRODID:-//evakrischel//NONSGML v1.0//EN
CALSCALE:GREGORIAN
BEGIN:VEVENT
UID:69e8a2750c138@evakrischel.de
DTSTAMP:20260422T102701Z
DTSTART:20250813T160000Z
DTEND:20250813T183000Z
SUMMARY:Coaching Dinner ♥️ Thema: Richtige(n) PartnerIn finden
DESCRIPTION:✨ Du hast das Gefühl, du gerätst immer an die Falschen? ✨ Die, die du willst wollen dich nicht und die, die dich wollen, willst du nicht?
URL:https://www.eventbrite.de/e/1554116918539
END:VEVENT
END:VCALENDAR
